BEGIN:VCALENDAR
VERSION:2.0
PRODID:-//wp-events-plugin.com//7.2.3.1//EN
TZID:America/Chicago
X-WR-TIMEZONE:America/Chicago
BEGIN:VEVENT
UID:4515@uucomo.org
DTSTART;TZID=America/Chicago:20261114T083000
DTEND;TZID=America/Chicago:20261114T130000
DTSTAMP:20251029T160107Z
URL:https://uucomo.org/events/alpha-kappa-2-2026-09-12-2026-10-10-2026-11-
 14/
SUMMARY:Alpha Kappa
DESCRIPTION:with Monica (Renter)
CATEGORIES:Uncategorized
LOCATION:Greeting Area and Sanctuary\, 2615 Shepard Blvd.\, Columbia\, MO\,
  65201
X-APPLE-STRUCTURED-LOCATION;VALUE=URI;X-ADDRESS=2615 Shepard Blvd.\, Columb
 ia\, MO\, 65201\, United States;X-APPLE-RADIUS=100;X-TITLE=Greeting Area a
 nd Sanctuary:geo:0,0
END:VEVENT
BEGIN:VTIMEZONE
TZID:America/Chicago
X-LIC-LOCATION:America/Chicago
BEGIN:STANDARD
DTSTART:20261101T010000
TZOFFSETFROM:-0500
TZOFFSETTO:-0600
TZNAME:CST
END:STANDARD
END:VTIMEZONE
END:VCALENDAR