BEGIN:VCALENDAR
VERSION:2.0
PRODID:-//wp-events-plugin.com//7.2.3.1//EN
TZID:America/Chicago
X-WR-TIMEZONE:America/Chicago
BEGIN:VEVENT
UID:4752@uucomo.org
DTSTART;TZID=America/Chicago:20260411T110000
DTEND;TZID=America/Chicago:20260411T140000
DTSTAMP:20260330T162454Z
URL:https://uucomo.org/events/brake-light-clinic/
SUMMARY:Brake Light Clinic
DESCRIPTION:A monthly event that is absolutely free. Get your tail lights r
 eplaced for free. Enjoy a free lunch and "shop" the free market with cloth
 ing\, food items\, hygiene care items\, books\, children's toys\, etc...
CATEGORIES:Uncategorized
LOCATION:In Front of Church\, 2615 Shepard Blvd.\, Columbia\, MO\, 65201
X-APPLE-STRUCTURED-LOCATION;VALUE=URI;X-ADDRESS=2615 Shepard Blvd.\, Columb
 ia\, MO\, 65201\, United States;X-APPLE-RADIUS=100;X-TITLE=In Front of Chu
 rch:geo:0,0
END:VEVENT
BEGIN:VTIMEZONE
TZID:America/Chicago
X-LIC-LOCATION:America/Chicago
BEGIN:DAYLIGHT
DTSTART:20260308T030000
TZOFFSETFROM:-0600
TZOFFSETTO:-0500
TZNAME:CDT
END:DAYLIGHT
END:VTIMEZONE
END:VCALENDAR