BEGIN:VCALENDAR
VERSION:2.0
PRODID:-//wp-events-plugin.com//7.2.3.1//EN
TZID:America/Chicago
X-WR-TIMEZONE:America/Chicago
BEGIN:VEVENT
UID:4788@uucomo.org
DTSTART;TZID=America/Chicago:20260509T183000
DTEND;TZID=America/Chicago:20260509T203000
DTSTAMP:20260420T184011Z
URL:https://uucomo.org/events/uucc-book-discussion-group-6/
SUMMARY:UUCC Book Discussion Group
DESCRIPTION:6:30p. m. Saturday  May 9 online\n  The group will meet via Z
 oom on Saturday\, May 9 at 6:30pm to discuss books briefly each has read.
   For information contact Pam Springsteel at &lt\;pspring@socket.net&gt\;
CATEGORIES:Social Ministry
END:VEVENT
BEGIN:VTIMEZONE
TZID:America/Chicago
X-LIC-LOCATION:America/Chicago
BEGIN:DAYLIGHT
DTSTART:20260308T030000
TZOFFSETFROM:-0600
TZOFFSETTO:-0500
TZNAME:CDT
END:DAYLIGHT
END:VTIMEZONE
END:VCALENDAR