BEGIN:VCALENDAR
VERSION:2.0
PRODID:-//wp-events-plugin.com//7.2.3.1//EN
TZID:America/Chicago
X-WR-TIMEZONE:America/Chicago
BEGIN:VEVENT
UID:4786@uucomo.org
DTSTART;TZID=America/Chicago:20261017T120000
DTEND;TZID=America/Chicago:20261017T190000
DTSTAMP:20260420T184400Z
URL:https://uucomo.org/events/uujme-chili-and-soup-fundraiser/
SUMMARY:UUJME Chili (and Soup) Fundraiser
DESCRIPTION:
CATEGORIES:Activism Ministry
LOCATION:Greeting Area and Upper Level Kitchen\, 2615 Shepard Blvd.c\, Colu
 mbia\, MO\, 65201
X-APPLE-STRUCTURED-LOCATION;VALUE=URI;X-ADDRESS=2615 Shepard Blvd.c\, Colum
 bia\, MO\, 65201\, United States;X-APPLE-RADIUS=100;X-TITLE=Greeting Area 
 and Upper Level Kitchen:geo:0,0
END:VEVENT
BEGIN:VTIMEZONE
TZID:America/Chicago
X-LIC-LOCATION:America/Chicago
BEGIN:DAYLIGHT
DTSTART:20260308T030000
TZOFFSETFROM:-0600
TZOFFSETTO:-0500
TZNAME:CDT
END:DAYLIGHT
END:VTIMEZONE
END:VCALENDAR