BEGIN:VCALENDAR
VERSION:2.0
PRODID:-//wp-events-plugin.com//7.2.3.1//EN
TZID:America/Chicago
X-WR-TIMEZONE:America/Chicago
BEGIN:VEVENT
UID:4776@uucomo.org
DTSTART;TZID=America/Chicago:20260613T173000
DTEND;TZID=America/Chicago:20260613T193000
DTSTAMP:20260413T170701Z
URL:https://uucomo.org/events/young-adults-pool-party/
SUMMARY:Young Adults Pool Party
DESCRIPTION:Lake of the woods pool
CATEGORIES:Social Ministry
LOCATION:Off-Site\, See calendar entry for address\, See calendar entry for
  address\, See calendar entry for address\, 65201
X-APPLE-STRUCTURED-LOCATION;VALUE=URI;X-ADDRESS=See calendar entry for addr
 ess\, See calendar entry for address\, See calendar entry for address\, 65
 201\, United States;X-APPLE-RADIUS=100;X-TITLE=Off-Site:geo:0,0
END:VEVENT
BEGIN:VTIMEZONE
TZID:America/Chicago
X-LIC-LOCATION:America/Chicago
BEGIN:DAYLIGHT
DTSTART:20260308T030000
TZOFFSETFROM:-0600
TZOFFSETTO:-0500
TZNAME:CDT
END:DAYLIGHT
END:VTIMEZONE
END:VCALENDAR